BEGIN:VCALENDAR
VERSION:2.0
CALSCALE:GREGORIAN
PRODID:-//Diputació de Barcelona//DibaCMS//EN
BEGIN:VEVENT
UID:175
DTSTAMP:20260421T123249
DTSTART:20160419T100000
DTEND:20160419T110000
SUMMARY:Reunió amb Serveis Territorials d'Urbanisme de Manresa
LOCATION:08183 Granera
METHOD:PUBLISH
X-WR-CALNAME:granera@granera.cat
X-WR-TIMEZONE:Europe/Madrid
DESCRIPTION:
URI:https://www.granera.cat/100-ajuntament/consistori/139-agenda-politica/reunio-amb-serveis-territorials-durbanisme-de-manresa.html
CLASS:PUBLIC
END:VEVENT
END:VCALENDAR
