BEGIN:VCALENDAR
VERSION:2.0
CALSCALE:GREGORIAN
PRODID:-//Diputació de Barcelona//DibaCMS//EN
BEGIN:VEVENT
UID:177
DTSTAMP:20260421T111110
DTSTART:20160510T104500
DTEND:20160516T104500
SUMMARY:13a Fira d'artesania de Granera
LOCATION:
METHOD:PUBLISH
X-WR-CALNAME:granera@granera.cat
X-WR-TIMEZONE:Europe/Madrid
DESCRIPTION:Per tretzè any consecutiu el proper dia 15 de maig es celebra la Fira d'Artesania de Granera.

URI:https://www.granera.cat/actualitat/noticies/13a-fira-dartesania-de-granera.html
CLASS:PUBLIC
END:VEVENT
END:VCALENDAR
