BEGIN:VCALENDAR
VERSION:2.0
CALSCALE:GREGORIAN
PRODID:-//Diputació de Barcelona//DibaCMS//EN
BEGIN:VEVENT
UID:196
DTSTAMP:20260421T110959
DTSTART:20170228T121500
DTEND:20170313T121500
SUMMARY:Anunci oferta de treball peó servei de manteniment
LOCATION:
METHOD:PUBLISH
X-WR-CALNAME:granera@granera.cat
X-WR-TIMEZONE:Europe/Madrid
DESCRIPTION:Oferta de treball d'un peó de serveis de manteniment amb un contracte per obra o servei determinat temporal a temps complert, amb durada de dos anys, per realitzar tasques de neteja i manteniment de les zones verdes, la xarxa viària i equipaments del municipi de Granera. Podeu accedir a les bases del concurs clicant aquí

 

URI:https://www.granera.cat/actualitat/noticies/anunci-oferta-de-treball-peo-servei-de-manteniment.html
CLASS:PUBLIC
END:VEVENT
END:VCALENDAR
