BEGIN:VCALENDAR
VERSION:2.0
CALSCALE:GREGORIAN
PRODID:-//Diputació de Barcelona//DibaCMS//EN
BEGIN:VEVENT
UID:197
DTSTAMP:20260421T112927
DTSTART:20170313T143500
DTEND:20170322T195000
SUMMARY:Procés selectiu d'un peó de serveis de manteniment
LOCATION:
METHOD:PUBLISH
X-WR-CALNAME:granera@granera.cat
X-WR-TIMEZONE:Europe/Madrid
DESCRIPTION:Aprovació de la llista provisional de les persones admeses i excloses en la convocatòria del procès selectiu per a la contractació laboral d'un peó del servei de manteniment

URI:https://www.granera.cat/actualitat/noticies/proces-selectiu-dun-peo-de-serveis-de-manteniment.html
CLASS:PUBLIC
END:VEVENT
END:VCALENDAR
