BEGIN:VCALENDAR
VERSION:2.0
CALSCALE:GREGORIAN
PRODID:-//Diputació de Barcelona//DibaCMS//EN
BEGIN:VEVENT
UID:224
DTSTAMP:20260421T111212
DTSTART:20170411T101500
DTEND:20170813T102000
SUMMARY:Festival a Granera 2017
LOCATION:
METHOD:PUBLISH
X-WR-CALNAME:granera@granera.cat
X-WR-TIMEZONE:Europe/Madrid
DESCRIPTION:Amb l'escenificació de l'Òpera La Ventafocs el diumenge 16 d'abril arrencarà la tercera edició del Festival

URI:https://www.granera.cat/actualitat/noticies/festival-a-granera-2017.html
CLASS:PUBLIC
END:VEVENT
END:VCALENDAR
