BEGIN:VCALENDAR
VERSION:2.0
CALSCALE:GREGORIAN
PRODID:-//Diputació de Barcelona//DibaCMS//EN
BEGIN:VEVENT
UID:2390
DTSTAMP:20260423T114013
DTSTART:20250619T000000
DTEND:20250626T000000
SUMMARY:Recollida de voluminosos
LOCATION:
METHOD:PUBLISH
X-WR-CALNAME:granera@granera.cat
X-WR-TIMEZONE:Europe/Madrid
DESCRIPTION:Servei de recollida de voluminosos del dia 25/06/2025

URI:https://www.granera.cat/actualitat/noticies/2390-recollida-de-voluminosos.html
CLASS:PUBLIC
END:VEVENT
END:VCALENDAR
