BEGIN:VCALENDAR
VERSION:2.0
CALSCALE:GREGORIAN
PRODID:-//Diputació de Barcelona//DibaCMS//EN
BEGIN:VEVENT
UID:2407
DTSTAMP:20260421T152611
DTSTART:20251021T000000
DTEND:20251021T000000
SUMMARY:Sortida per Majors de 65 anys - Dimarts 28 d'Octubre 
LOCATION:
METHOD:PUBLISH
X-WR-CALNAME:granera@granera.cat
X-WR-TIMEZONE:Europe/Madrid
DESCRIPTION:Sortida per a la gent gran – Visita a les Ruïnes d’Empúries

Dimarts 28 d’octubre

Ruïnes d’Empúries – Visita guiada + dinar

Inscripcions per WhatsApp al 619 16 73 59

 

URI:https://www.granera.cat/actualitat/noticies/sortida-per-majors-de-65-anys-dimarts-28-doctubre-.html
CLASS:PUBLIC
END:VEVENT
END:VCALENDAR
