BEGIN:VCALENDAR
VERSION:2.0
CALSCALE:GREGORIAN
PRODID:-//Diputació de Barcelona//DibaCMS//EN
BEGIN:VEVENT
UID:2413
DTSTAMP:20260421T140107
DTSTART:20251023T000000
DTEND:20261123T000000
SUMMARY:Taller de Cuina - Bathcooking
LOCATION:
METHOD:PUBLISH
X-WR-CALNAME:granera@granera.cat
X-WR-TIMEZONE:Europe/Madrid
DESCRIPTION:Vine a cuinar, riure i organitzar els àpats de tota la setmana en només unes hores .

Farem receptes fàcils i delicioses i, al final, tastarem  tot el que haurem preparat.

Inscriu-te per Whats app al 619167359 !

Places  EXHAURIDES !! 

Dissabte  22 de Novembre de 11h a 13.00h mati al Casal 

Granera

URI:https://www.granera.cat/actualitat/noticies/taller-de-cuina-bathcooking.html
CLASS:PUBLIC
END:VEVENT
END:VCALENDAR
