BEGIN:VCALENDAR
VERSION:2.0
CALSCALE:GREGORIAN
PRODID:-//Diputació de Barcelona//DibaCMS//EN
BEGIN:VEVENT
UID:2415
DTSTAMP:20260421T124354
DTSTART:20251105T000000
DTEND:20261123T000000
SUMMARY:Taller familiar de Casetes de suro
LOCATION:
METHOD:PUBLISH
X-WR-CALNAME:granera@granera.cat
X-WR-TIMEZONE:Europe/Madrid
DESCRIPTION:Dins els actes de la Fira de Sant Martí, us proposem un taller familiar gratuït on podreu construir casetes de suro amb l’ajuda d’l’Obrador Artesà.
L’activitat tindrà lloc el diumenge 23 de novembre al Casal de Granera i està pensada per a totes les edats.
Una manera divertida i creativa de gaudir en família de la fira i de l’artesania tradicional!

URI:https://www.granera.cat/actualitat/noticies/taller-familiar-de-casetes-de-suro.html
CLASS:PUBLIC
END:VEVENT
END:VCALENDAR
