BEGIN:VCALENDAR
VERSION:2.0
CALSCALE:GREGORIAN
PRODID:-//Diputació de Barcelona//DibaCMS//EN
BEGIN:VEVENT
UID:2416
DTSTAMP:20260421T152728
DTSTART:20251105T000000
DTEND:20251124T000000
SUMMARY:Competició d'escalada amb Caixes, Rocòdrom i Slackline
LOCATION:
METHOD:PUBLISH
X-WR-CALNAME:granera@granera.cat
X-WR-TIMEZONE:Europe/Madrid
DESCRIPTION:El divendres 22 de novembre, de 5 a 7 de la tarda, el Casal de Granera acollirà una emocionant competició d’escalada amb caixes, rocòdrom i slackline.
Una activitat gratuïta, oberta a joves i famílies, per gaudir de l’esport, l’equilibri i la diversió en un ambient segur i participatiu.
Organitzen l’Ajuntament de Granera i el Consell Comarcal i el Consorci del Moianès, amb el suport de la Diputació de Barcelona.

🧩 Inscripcions: Escalada a Granera

URI:https://www.granera.cat/actualitat/noticies/competicio-descalada-amb-caixes-rocodrom-i-slackline.html
CLASS:PUBLIC
END:VEVENT
END:VCALENDAR
