BEGIN:VCALENDAR
VERSION:2.0
CALSCALE:GREGORIAN
PRODID:-//Diputació de Barcelona//DibaCMS//EN
BEGIN:VEVENT
UID:2417
DTSTAMP:20260421T124555
DTSTART:20251112T000000
DTEND:20261123T000000
SUMMARY:Art i Natura a la Fira de Sant Marti
LOCATION:
METHOD:PUBLISH
X-WR-CALNAME:granera@granera.cat
X-WR-TIMEZONE:Europe/Madrid
DESCRIPTION:Art i Natura a la Fira de Sant Marti 

Creacions artístiques basades en la Natura de Sílvia Mampel

URI:https://www.granera.cat/actualitat/noticies/art-i-natura-a-la-fira-de-sant-marti.html
CLASS:PUBLIC
END:VEVENT
END:VCALENDAR
