BEGIN:VCALENDAR
VERSION:2.0
CALSCALE:GREGORIAN
PRODID:-//Diputació de Barcelona//DibaCMS//EN
BEGIN:VEVENT
UID:2418
DTSTAMP:20260421T123527
DTSTART:20251114T000000
DTEND:20261113T000000
SUMMARY:IV Jornada de Pedra Seca
LOCATION:
METHOD:PUBLISH
X-WR-CALNAME:granera@granera.cat
X-WR-TIMEZONE:Europe/Madrid
DESCRIPTION:
URI:https://www.granera.cat/actualitat/noticies/iv-jornada-de-pedra-seca.html
CLASS:PUBLIC
END:VEVENT
END:VCALENDAR
