BEGIN:VCALENDAR
VERSION:2.0
CALSCALE:GREGORIAN
PRODID:-//Diputació de Barcelona//DibaCMS//EN
BEGIN:VEVENT
UID:2454
DTSTAMP:20260421T140205
DTSTART:20251216T000000
DTEND:20261216T000000
SUMMARY:L'equip de l'Ajuntament us desitjen un Bon Nadal !
LOCATION:
METHOD:PUBLISH
X-WR-CALNAME:granera@granera.cat
X-WR-TIMEZONE:Europe/Madrid
DESCRIPTION:
URI:https://www.granera.cat/actualitat/noticies/lequip-de-lajuntament-us-desitjen-un-bon-nadal-.html
CLASS:PUBLIC
END:VEVENT
END:VCALENDAR
