BEGIN:VCALENDAR
VERSION:2.0
CALSCALE:GREGORIAN
PRODID:-//Diputació de Barcelona//DibaCMS//EN
BEGIN:VEVENT
UID:2456
DTSTAMP:20260421T140116
DTSTART:20251217T000000
DTEND:20261218T000000
SUMMARY:BON NADAL
LOCATION:
METHOD:PUBLISH
X-WR-CALNAME:granera@granera.cat
X-WR-TIMEZONE:Europe/Madrid
DESCRIPTION:L'equip de l'Ajuntament de Granera us desitja molt Bones Festes 

🎄Recordeu! 📅 Aquest Nadal, t’hi esperem!

🕓 16.00 h – Missa del Gall a Santa Cecília
🪵🎁 Tot seguit, farem cagar el tió
🥂🍰 I acabarem celebrant el Nadal amb coca i moscatell al bar del Casal de Granera

Vine a compartir una tarda ben nadalenca, plena de tradició, bon ambient i bona companyia!
🎅🎶 No hi faltis!

URI:https://www.granera.cat/actualitat/noticies/bon-nadal.html
CLASS:PUBLIC
END:VEVENT
END:VCALENDAR
