BEGIN:VCALENDAR
VERSION:2.0
CALSCALE:GREGORIAN
PRODID:-//Diputació de Barcelona//DibaCMS//EN
BEGIN:VEVENT
UID:2464
DTSTAMP:20260421T140015
DTSTART:20260106T000000
DTEND:20260128T000000
SUMMARY:Ple Municipal 28 de  Gener 2026
LOCATION:Ajuntament de Granera 08183 Granera
METHOD:PUBLISH
X-WR-CALNAME:granera@granera.cat
X-WR-TIMEZONE:Europe/Madrid
DESCRIPTION:
URI:https://www.granera.cat/100-ajuntament/consistori/139-agenda-politica/ple-municipal-28-de-gener-2026.html
CLASS:PUBLIC
END:VEVENT
END:VCALENDAR
