BEGIN:VCALENDAR
VERSION:2.0
CALSCALE:GREGORIAN
PRODID:-//Diputació de Barcelona//DibaCMS//EN
BEGIN:VEVENT
UID:2466
DTSTAMP:20260421T140146
DTSTART:20260108T000000
DTEND:20270108T000000
SUMMARY:Calendari servei atenció al client  Aigües.cat 
LOCATION:
METHOD:PUBLISH
X-WR-CALNAME:granera@granera.cat
X-WR-TIMEZONE:Europe/Madrid
DESCRIPTION:
URI:https://www.granera.cat/actualitat/noticies/calendari-servei-atencio-al-client-aiguescat-.html
CLASS:PUBLIC
END:VEVENT
END:VCALENDAR
