BEGIN:VCALENDAR
VERSION:2.0
CALSCALE:GREGORIAN
PRODID:-//Diputació de Barcelona//DibaCMS//EN
BEGIN:VEVENT
UID:2483
DTSTAMP:20260421T121417
DTSTART:20260213T150000
DTEND:20260213T153000
SUMMARY:CAIXA ENGINYERS
LOCATION:Plaça Església 1 08183 Granera
METHOD:PUBLISH
X-WR-CALNAME:granera@granera.cat
X-WR-TIMEZONE:Europe/Madrid
DESCRIPTION:El dia 13 de Febrer des de les 15.00h a les 15.30h de la tarda hi haurà el servei que ofereix la banca mòbil de Catalunya

URI:https://www.granera.cat/actualitat/agenda/2483-caixa-enginyers.html
CLASS:PUBLIC
END:VEVENT
END:VCALENDAR
