BEGIN:VCALENDAR
VERSION:2.0
CALSCALE:GREGORIAN
PRODID:-//Diputació de Barcelona//DibaCMS//EN
BEGIN:VEVENT
UID:2489
DTSTAMP:20260421T101502
DTSTART:20260306T170000
DTEND:20260306T180000
SUMMARY:Bibliobús al Casal
LOCATION:El Casal  08183 Granera
METHOD:PUBLISH
X-WR-CALNAME:granera@granera.cat
X-WR-TIMEZONE:Europe/Madrid
DESCRIPTION:
URI:https://www.granera.cat/actualitat/agenda/bibliobus-al-casal.html
CLASS:PUBLIC
END:VEVENT
END:VCALENDAR
