BEGIN:VCALENDAR
VERSION:2.0
CALSCALE:GREGORIAN
PRODID:-//Diputació de Barcelona//DibaCMS//EN
BEGIN:VEVENT
UID:2503
DTSTAMP:20260424T230504
DTSTART:20260427T093000
DTEND:20260427T103000
SUMMARY:Caixa Bank
LOCATION:El Casal  08183 Granera
METHOD:PUBLISH
X-WR-CALNAME:granera@granera.cat
X-WR-TIMEZONE:Europe/Madrid
DESCRIPTION:
URI:https://www.granera.cat/actualitat/agenda/2503-caixa-bank.html
CLASS:PUBLIC
END:VEVENT
END:VCALENDAR
