BEGIN:VCALENDAR
VERSION:2.0
CALSCALE:GREGORIAN
PRODID:-//Diputació de Barcelona//DibaCMS//EN
BEGIN:VEVENT
UID:2508
DTSTAMP:20260421T133818
DTSTART:20260421T000000
DTEND:20270421T000000
SUMMARY:Interrupció del subministrament elèctric
LOCATION:
METHOD:PUBLISH
X-WR-CALNAME:granera@granera.cat
X-WR-TIMEZONE:Europe/Madrid
DESCRIPTION:Divendres dia 24 d'abril de 2026 

De 8.00h a 15.00h 

 

URI:https://www.granera.cat/actualitat/noticies/interrupcio-del-subministrament-electric.html
CLASS:PUBLIC
END:VEVENT
END:VCALENDAR
