BEGIN:VCALENDAR
VERSION:2.0
CALSCALE:GREGORIAN
PRODID:-//Diputació de Barcelona//DibaCMS//EN
BEGIN:VEVENT
UID:2515
DTSTAMP:20260424T230833
DTSTART:20260925T170000
DTEND:20260925T180000
SUMMARY:Bibliobús 
LOCATION:El Casal 08183 Granera
METHOD:PUBLISH
X-WR-CALNAME:granera@granera.cat
X-WR-TIMEZONE:Europe/Madrid
DESCRIPTION:
URI:https://www.granera.cat/actualitat/agenda/2515-bibliobus-.html
CLASS:PUBLIC
END:VEVENT
END:VCALENDAR
