BEGIN:VCALENDAR
VERSION:2.0
CALSCALE:GREGORIAN
PRODID:-//Diputació de Barcelona//DibaCMS//EN
BEGIN:VEVENT
UID:254
DTSTAMP:20260421T124321
DTSTART:20170518T114000
DTEND:20180411T114000
SUMMARY:Ja podeu consultar la Granària des del web
LOCATION:
METHOD:PUBLISH
X-WR-CALNAME:granera@granera.cat
X-WR-TIMEZONE:Europe/Madrid
DESCRIPTION:La revista d'informació sobre Granera que s'edita trimestralment ara en format digital

URI:https://www.granera.cat/actualitat/noticies/ja-podeu-consultar-la-granaria-des-del-web.html
CLASS:PUBLIC
END:VEVENT
END:VCALENDAR
