BEGIN:VCALENDAR
VERSION:2.0
CALSCALE:GREGORIAN
PRODID:-//Diputació de Barcelona//DibaCMS//EN
BEGIN:VEVENT
UID:255
DTSTAMP:20260421T112850
DTSTART:20170410T114500
DTEND:20180411T114500
SUMMARY:Tornem a recuperar la tradicional benedicció del Terme i la repartició dels panets
LOCATION:
METHOD:PUBLISH
X-WR-CALNAME:granera@granera.cat
X-WR-TIMEZONE:Europe/Madrid
DESCRIPTION:Dilluns de Pasqua pujarem de nou a la Creu de la Missió, al costat de La Torra, per beneir el terme

URI:https://www.granera.cat/actualitat/noticies/tornem-a-recuperar-la-tradicional-benediccio-del-terme-i-la-reparticio-dels-panets.html
CLASS:PUBLIC
END:VEVENT
END:VCALENDAR
