BEGIN:VCALENDAR
VERSION:2.0
CALSCALE:GREGORIAN
PRODID:-//Diputació de Barcelona//DibaCMS//EN
BEGIN:VEVENT
UID:256
DTSTAMP:20260421T152120
DTSTART:20170518T135000
DTEND:20180411T135000
SUMMARY:Subscriu-te al butlletí digital de notícies de Granera
LOCATION:
METHOD:PUBLISH
X-WR-CALNAME:granera@granera.cat
X-WR-TIMEZONE:Europe/Madrid
DESCRIPTION:Per estar informat de totes les novetats, agenda i notícies de Granera a només un click.

URI:https://www.granera.cat/actualitat/noticies/subscriu-te-al-butlleti-digital-de-noticies-de-granera.html
CLASS:PUBLIC
END:VEVENT
END:VCALENDAR
