BEGIN:VCALENDAR
VERSION:2.0
CALSCALE:GREGORIAN
PRODID:-//Diputació de Barcelona//DibaCMS//EN
BEGIN:VEVENT
UID:293
DTSTAMP:20260421T140002
DTSTART:20170514T124500
DTEND:20180416T144500
SUMMARY:Reserva't la data: 21 maig Fira d'Artesania
LOCATION:
METHOD:PUBLISH
X-WR-CALNAME:granera@granera.cat
X-WR-TIMEZONE:Europe/Madrid
DESCRIPTION:Arriba la 14ena fira, amb paradetes, atesania, gastronomia... A les 10, esmorzar d'abans amb receptes de les àvies

URI:https://www.granera.cat/actualitat/noticies/reservat-la-data-21-maig-fira-dartesania.html
CLASS:PUBLIC
END:VEVENT
END:VCALENDAR
