BEGIN:VCALENDAR
VERSION:2.0
CALSCALE:GREGORIAN
PRODID:-//Diputació de Barcelona//DibaCMS//EN
BEGIN:VEVENT
UID:294
DTSTAMP:20260423T102256
DTSTART:20170513T094500
DTEND:20180511T094500
SUMMARY:Novetat: visites guiades a les esglésies romàniques de Granera
LOCATION:
METHOD:PUBLISH
X-WR-CALNAME:granera@granera.cat
X-WR-TIMEZONE:Europe/Madrid
DESCRIPTION:El proper diumenge 21 de maig a les 13h, coincidint amb la Fira d'Artesania, es farà la primera visita guiada a les dues esglésies romàniques de Granera; Santa Cecília, que conserva encara els seus frescos originals, i Sant Martí, on es podran veure les successives remodelacions.

Les visites es podran fer també cada primer diumenge de mes, després de la missa de 12.

Per visitar-les, cal dirigir-se al punt d'informació situat al Casal de Granera. Per a grups nombrosos podeu contactar també prèviament amb l'ajuntament 93 866 81 52

URI:https://www.granera.cat/actualitat/noticies/novetat-visites-guiades-a-les-esglesies-romaniques-de-granera.html
CLASS:PUBLIC
END:VEVENT
END:VCALENDAR
