BEGIN:VCALENDAR
VERSION:2.0
CALSCALE:GREGORIAN
PRODID:-//Diputació de Barcelona//DibaCMS//EN
BEGIN:VEVENT
UID:295
DTSTAMP:20260421T124254
DTSTART:20170711T234000
DTEND:20180308T234000
SUMMARY:Comencen els tallers d'estiu: consulteu aquí un avançament
LOCATION:
METHOD:PUBLISH
X-WR-CALNAME:granera@granera.cat
X-WR-TIMEZONE:Europe/Madrid
DESCRIPTION:Tallers per a tots els gustos i totes les edats per amenitzar l'estiu a Granera

URI:https://www.granera.cat/actualitat/noticies/comencen-els-tallers-destiu-consulteu-aqui-un-avancament.html
CLASS:PUBLIC
END:VEVENT
END:VCALENDAR
