BEGIN:VCALENDAR
VERSION:2.0
CALSCALE:GREGORIAN
PRODID:-//Diputació de Barcelona//DibaCMS//EN
BEGIN:VEVENT
UID:309
DTSTAMP:20260421T135822
DTSTART:20180309T000000
DTEND:20180506T000000
SUMMARY:Expedient per a l’establiment del servei públic municipal d’abastament d’aigua apta per al consum humà del municipi de Granera
LOCATION:
METHOD:PUBLISH
X-WR-CALNAME:granera@granera.cat
X-WR-TIMEZONE:Europe/Madrid
DESCRIPTION:Aquí podreu trobar els documents de l'expedient per a l'establiment del servei públic municipal d'abastament d'aigua apta per al consum humà del municipi de Granera

URI:https://www.granera.cat/actualitat/noticies/expedient-per-a-lestabliment-del-servei-public-municipal-dabastament-daigua-apta-per-al-consum-huma-del-municipi-de-granera.html
CLASS:PUBLIC
END:VEVENT
END:VCALENDAR
