BEGIN:VCALENDAR
VERSION:2.0
CALSCALE:GREGORIAN
PRODID:-//Diputació de Barcelona//DibaCMS//EN
BEGIN:VEVENT
UID:312
DTSTAMP:20260421T152157
DTSTART:20180329T000000
DTEND:20180410T000000
SUMMARY:Horaris dels Oficis de Setmana Santa
LOCATION:
METHOD:PUBLISH
X-WR-CALNAME:granera@granera.cat
X-WR-TIMEZONE:Europe/Madrid
DESCRIPTION:Tots els oficis es faran a Santa Cecília

Diumenge de Rams: 12.30h

Dijous Sant: 19h

Divendres Sant 17h

Dissabte Sant 20h

Dilluns de Pàsqua: 11h Benedicció del panet a la Creu de Terme de La Torra

 

URI:https://www.granera.cat/actualitat/noticies/horaris-dels-oficis-de-setmana-santa.html
CLASS:PUBLIC
END:VEVENT
END:VCALENDAR
