BEGIN:VCALENDAR
VERSION:2.0
CALSCALE:GREGORIAN
PRODID:-//Diputació de Barcelona//DibaCMS//EN
BEGIN:VEVENT
UID:315
DTSTAMP:20260421T152019
DTSTART:20180417T000000
DTEND:20180515T000000
SUMMARY:Licitació obres "Urbanització del Carrer Nou, 2A Fase"
LOCATION:
METHOD:PUBLISH
X-WR-CALNAME:granera@granera.cat
X-WR-TIMEZONE:Europe/Madrid
DESCRIPTION:Convocatòria del procediment obert per a l'adjudicació del contracte d'obres de "Urbanització del carrer Nou 2a. fase"

URI:https://www.granera.cat/actualitat/noticies/licitacio-obres-urbanitzacio-del-carrer-nou-2a-fase.html
CLASS:PUBLIC
END:VEVENT
END:VCALENDAR
