BEGIN:VCALENDAR
VERSION:2.0
CALSCALE:GREGORIAN
PRODID:-//Diputació de Barcelona//DibaCMS//EN
BEGIN:VEVENT
UID:317
DTSTAMP:20260421T171020
DTSTART:20180517T210000
DTEND:20190430T000000
SUMMARY:Ja us podeu inscriure a la Mitja Marató de Granera
LOCATION:
METHOD:PUBLISH
X-WR-CALNAME:granera@granera.cat
X-WR-TIMEZONE:Europe/Madrid
DESCRIPTION:Enguany l’Ajuntament de Granera organitza la primera Mitja Marató de la Llebre i la Cursa dels Milhomes, uns recorreguts on predominen els corriols i uns bons paisatges, tot passant per llocs emblemàtics del nostre municipi.
 

 

URI:https://www.granera.cat/actualitat/noticies/ja-us-podeu-inscriure-a-la-mitja-marato-de-granera.html
CLASS:PUBLIC
END:VEVENT
END:VCALENDAR
