BEGIN:VCALENDAR
VERSION:2.0
CALSCALE:GREGORIAN
PRODID:-//Diputació de Barcelona//DibaCMS//EN
BEGIN:VEVENT
UID:330
DTSTAMP:20260423T113808
DTSTART:20180612T000000
DTEND:20180619T000000
SUMMARY:Cicle de xerrades sobre consum
LOCATION:
METHOD:PUBLISH
X-WR-CALNAME:granera@granera.cat
X-WR-TIMEZONE:Europe/Madrid
DESCRIPTION:Com interpretar correctament els símbols de les etiquetes

URI:https://www.granera.cat/actualitat/noticies/330-cicle-de-xerrades-sobre-consum.html
CLASS:PUBLIC
END:VEVENT
END:VCALENDAR
