BEGIN:VCALENDAR
VERSION:2.0
CALSCALE:GREGORIAN
PRODID:-//Diputació de Barcelona//DibaCMS//EN
BEGIN:VEVENT
UID:332
DTSTAMP:20260421T152300
DTSTART:20180717T000000
DTEND:20190626T000000
SUMMARY:Taller de pilates i de zumba
LOCATION:
METHOD:PUBLISH
X-WR-CALNAME:granera@granera.cat
X-WR-TIMEZONE:Europe/Madrid
DESCRIPTION:Mou-te! Posat en forma! Tots els dissabtes de juliol i agost d'11 a 12 i de 12 a 13h al Casal

Cal inscriures's a genescabg@diba.cat o trucant al 93 8668152



URI:https://www.granera.cat/actualitat/noticies/taller-de-pilates-i-de-zumba.html
CLASS:PUBLIC
END:VEVENT
END:VCALENDAR
