BEGIN:VCALENDAR
VERSION:2.0
CALSCALE:GREGORIAN
PRODID:-//Diputació de Barcelona//DibaCMS//EN
BEGIN:VEVENT
UID:336
DTSTAMP:20260421T152136
DTSTART:20180820T000000
DTEND:20190801T000000
SUMMARY:Ja podeu consultar tota la programació de la Festa Major de Granera 2018
LOCATION:
METHOD:PUBLISH
X-WR-CALNAME:granera@granera.cat
X-WR-TIMEZONE:Europe/Madrid
DESCRIPTION:
URI:https://www.granera.cat/actualitat/noticies/ja-podeu-consultar-tota-la-programacio-de-la-festa-major-de-granera-2018.html
CLASS:PUBLIC
END:VEVENT
END:VCALENDAR
