BEGIN:VCALENDAR
VERSION:2.0
CALSCALE:GREGORIAN
PRODID:-//Diputació de Barcelona//DibaCMS//EN
BEGIN:VEVENT
UID:350
DTSTAMP:20260421T152314
DTSTART:20180829T000000
DTEND:20190829T000000
SUMMARY:Clausura del Festival de Música 2018 amb un concert de jazz al Carner
LOCATION:
METHOD:PUBLISH
X-WR-CALNAME:granera@granera.cat
X-WR-TIMEZONE:Europe/Madrid
DESCRIPTION:La Masia del Carner acollirà el darrer concert d'aquest anys, a les 6 de la tarda. L'accés recomanat és pel trencall que hi ha al Km 2, sortint de Castellterçol cap a Granera, per l'antic camí ral cap a Gallifa

URI:https://www.granera.cat/actualitat/noticies/clausura-del-festival-de-musica-2018-amb-un-concert-de-jazz-al-carner.html
CLASS:PUBLIC
END:VEVENT
END:VCALENDAR
