BEGIN:VCALENDAR
VERSION:2.0
CALSCALE:GREGORIAN
PRODID:-//Diputació de Barcelona//DibaCMS//EN
BEGIN:VEVENT
UID:351
DTSTAMP:20260421T152914
DTSTART:20180830T000000
DTEND:20181001T000000
SUMMARY:Exposició pública d'un projecte en sòl no urbanitzable
LOCATION:
METHOD:PUBLISH
X-WR-CALNAME:granera@granera.cat
X-WR-TIMEZONE:Europe/Madrid
DESCRIPTION:Projecte d'instal·lació d'observatoris eventuals d'un territori d'àliga cuabarrada reformulat

URI:https://www.granera.cat/actualitat/noticies/exposicio-publica-dun-projecte-en-sol-no-urbanitzable.html
CLASS:PUBLIC
END:VEVENT
END:VCALENDAR
