BEGIN:VCALENDAR
VERSION:2.0
CALSCALE:GREGORIAN
PRODID:-//Diputació de Barcelona//DibaCMS//EN
BEGIN:VEVENT
UID:413
DTSTAMP:20260421T152539
DTSTART:20200316T000000
DTEND:20200721T000000
SUMMARY:AVISOS I INFORMACIÓ SOBRE EL CORONAVIRUS
LOCATION:
METHOD:PUBLISH
X-WR-CALNAME:granera@granera.cat
X-WR-TIMEZONE:Europe/Madrid
DESCRIPTION:Oficines tancades fins a nou avis

URI:https://www.granera.cat/actualitat/noticies/413-avisos-i-informacio-sobre-el-coronavirus.html
CLASS:PUBLIC
END:VEVENT
END:VCALENDAR
