BEGIN:VCALENDAR
VERSION:2.0
CALSCALE:GREGORIAN
PRODID:-//Diputació de Barcelona//DibaCMS//EN
BEGIN:VEVENT
UID:415
DTSTAMP:20260421T165127
DTSTART:20200327T000000
DTEND:20210327T000000
SUMMARY:ORGT - Organisme de Gestió Tributària
LOCATION:
METHOD:PUBLISH
X-WR-CALNAME:granera@granera.cat
X-WR-TIMEZONE:Europe/Madrid
DESCRIPTION:Oficines de l'Organisme de Gestió Tributària tancades

URI:https://www.granera.cat/actualitat/noticies/orgt-organisme-de-gestio-tributaria.html
CLASS:PUBLIC
END:VEVENT
END:VCALENDAR
