BEGIN:VCALENDAR
VERSION:2.0
CALSCALE:GREGORIAN
PRODID:-//Diputació de Barcelona//DibaCMS//EN
BEGIN:VEVENT
UID:421
DTSTAMP:20260421T082204
DTSTART:20200511T000000
DTEND:20200511T000000
SUMMARY:Agenda institucional
LOCATION:08183 Granera
METHOD:PUBLISH
X-WR-CALNAME:granera@granera.cat
X-WR-TIMEZONE:Europe/Madrid
DESCRIPTION:Aquí trobareu l'agenda institucional de l'alcalde i els regidors

URI:https://www.granera.cat/100-ajuntament/consistori/139-agenda-politica/agenda-institucional.html
CLASS:PUBLIC
END:VEVENT
END:VCALENDAR
