BEGIN:VCALENDAR
VERSION:2.0
CALSCALE:GREGORIAN
PRODID:-//Diputació de Barcelona//DibaCMS//EN
BEGIN:VEVENT
UID:422
DTSTAMP:20260419T203834
DTSTART:20250218T000000
DTEND:20280531T000000
SUMMARY:Agenda institucional
LOCATION:08183 Granera
METHOD:PUBLISH
X-WR-CALNAME:granera@granera.cat
X-WR-TIMEZONE:Europe/Madrid
DESCRIPTION:Agenda de l'alcalde

URI:https://www.granera.cat/100-ajuntament/consistori/139-agenda-politica/422-agenda-institucional.html
CLASS:PUBLIC
END:VEVENT
END:VCALENDAR
