BEGIN:VCALENDAR
VERSION:2.0
CALSCALE:GREGORIAN
PRODID:-//Diputació de Barcelona//DibaCMS//EN
BEGIN:VEVENT
UID:517
DTSTAMP:20260421T135940
DTSTART:20220413T000000
DTEND:20230413T000000
SUMMARY:Programa d'educació sanitària sobre el bon ús dels medicaments
LOCATION:
METHOD:PUBLISH
X-WR-CALNAME:granera@granera.cat
X-WR-TIMEZONE:Europe/Madrid
DESCRIPTION:Programa d'educació sanitària sobre el bon ús dels medicaments (PESBUM)

URI:https://www.granera.cat/actualitat/noticies/programa-deducacio-sanitaria-sobre-el-bon-us-dels-medicaments.html
CLASS:PUBLIC
END:VEVENT
END:VCALENDAR
