BEGIN:VCALENDAR
VERSION:2.0
CALSCALE:GREGORIAN
PRODID:-//Diputació de Barcelona//DibaCMS//EN
BEGIN:VEVENT
UID:522
DTSTAMP:20260423T102020
DTSTART:20220422T000000
DTEND:20220430T000000
SUMMARY:Diada de Sant Jordi
LOCATION:
METHOD:PUBLISH
X-WR-CALNAME:granera@granera.cat
X-WR-TIMEZONE:Europe/Madrid
DESCRIPTION:Trobada per parlar de la Joana Raspall

URI:https://www.granera.cat/actualitat/noticies/diada-de-sant-jordi.html
CLASS:PUBLIC
END:VEVENT
END:VCALENDAR
