BEGIN:VCALENDAR
VERSION:2.0
CALSCALE:GREGORIAN
PRODID:-//Diputació de Barcelona//DibaCMS//EN
BEGIN:VEVENT
UID:531
DTSTAMP:20260421T124422
DTSTART:20220610T000000
DTEND:20230610T000000
SUMMARY:Ban sobre les mesures extraordinàries per situació de sequera
LOCATION:
METHOD:PUBLISH
X-WR-CALNAME:granera@granera.cat
X-WR-TIMEZONE:Europe/Madrid
DESCRIPTION:Mesures per tal d'evitar haver de recórrer al transport d'aigua potable mitjançant cubes per poder garantir el subministrament a total la població

URI:https://www.granera.cat/actualitat/noticies/ban-sobre-les-mesures-extraordinaries-per-situacio-de-sequera.html
CLASS:PUBLIC
END:VEVENT
END:VCALENDAR
