BEGIN:VCALENDAR
VERSION:2.0
CALSCALE:GREGORIAN
PRODID:-//Diputació de Barcelona//DibaCMS//EN
BEGIN:VEVENT
UID:66
DTSTAMP:20260423T102224
DTSTART:20160505T132500
DTEND:20161109T132500
SUMMARY:Nou web institucional
LOCATION:
METHOD:PUBLISH
X-WR-CALNAME:granera@granera.cat
X-WR-TIMEZONE:Europe/Madrid
DESCRIPTION:Estrenem web

L'ajuntament de Granera estrena la nova pàgina web institucional, facilitant un instrument d'informació, de gestió i d'atenció a la ciutadania.

URI:https://www.granera.cat/actualitat/noticies/nou-web-institucional.html
CLASS:PUBLIC
END:VEVENT
END:VCALENDAR
